BEGIN:VCALENDAR
PRODID:-//eluceo/ical//2.0/EN
VERSION:2.0
CALSCALE:GREGORIAN
BEGIN:VEVENT
UID:9987ac2a32f1a2261cfc6f16d6682382
DTSTAMP:20260421T205144Z
SUMMARY:Exkursion Sumpfrohrsänger – Vogel des Jahres 2023
DESCRIPTION:Der Sumpfrohrsänger ist nur etwa drei Monate pro Jahr bei uns\
 nanzutreffen. Dichte Vegetation in Gewässernähe bevorzugend\,\nverschwin
 det er am liebsten im Gebüsch. Er imitiert den Gesang\nanderer Vögel und
  baut ihn virtuos in seinen eigenen ein.\n
DTSTART:20230618T054000Z
DTEND:20230618T130000Z
END:VEVENT
END:VCALENDAR
