BEGIN:VCALENDAR
PRODID:-//eluceo/ical//2.0/EN
VERSION:2.0
CALSCALE:GREGORIAN
BEGIN:VEVENT
UID:77a60934f5b4383dc8c4c3b6e8ad23a7
DTSTAMP:20260421T205051Z
SUMMARY:Auf Schlangenspuren am Lopper
DESCRIPTION:Schlangenbeobachtungen am Lopper sind ein Erlebnis! Bei günsti
 gem\nWetter können wir am Ufer des Alpnachersees Würfel- und Ringelnatte
 r\nentdecken.\n
DTSTART:20230603T080000Z
DTEND:20230603T120000Z
END:VEVENT
END:VCALENDAR
