BEGIN:VCALENDAR
PRODID:-//eluceo/ical//2.0/EN
VERSION:2.0
CALSCALE:GREGORIAN
BEGIN:VEVENT
UID:e47361301fb81165c0a6b974d572f629
DTSTAMP:20260421T205950Z
SUMMARY:Neuntöter am Krienser Sonnenberg (BirdLife Jungvögu)
DESCRIPTION:Der Neuntöter liebt Hecken und Büsche. Früher dachte man\, d
 ass er\nimmer zuerst neun Beutetiere auf die Dornen spiesse\, bevor er wie
 der\neines verspeise.\n
DTSTART:20230603T070000Z
DTEND:20230603T100000Z
END:VEVENT
END:VCALENDAR
