BEGIN:VCALENDAR
PRODID:-//eluceo/ical//2.0/EN
VERSION:2.0
CALSCALE:GREGORIAN
BEGIN:VEVENT
UID:3c7e23aaed6c10c16c498ae546127495
DTSTAMP:20260424T045558Z
SUMMARY:GEO-Tag der Natur 2023 zwischen Rot und Wigger
DESCRIPTION:Am GEO-Tag der Natur wird in einem festgelegten Gebiet die\nArt
 envielfalt dokumentiert.\n
DTSTART;VALUE=DATE:20230603
DTEND;VALUE=DATE:20230605
END:VEVENT
END:VCALENDAR
