BEGIN:VCALENDAR
PRODID:-//eluceo/ical//2.0/EN
VERSION:2.0
CALSCALE:GREGORIAN
BEGIN:VEVENT
UID:ade5b9676a018ece3cb3e8749f9d7345
DTSTAMP:20260424T045609Z
SUMMARY:Festival der Natur im Zellmoos
DESCRIPTION:Direkt vor den Toren der Stadt Sursee\, am Fusse der Mariazellm
 oräne\,\nliegt das 14 ha grosse Feuchtgebiet Zellmoos. Zwischen der\nSeeu
 ferlinie und dem Spazierweg besteht ein Mosaik aus Gräben\,\nWeihern\, Fl
 utmulden\, Gehölzen und Riedwiesen.\n
DTSTART:20230528T120000Z
DTEND:20230528T150000Z
END:VEVENT
END:VCALENDAR
