BEGIN:VCALENDAR
PRODID:-//eluceo/ical//2.0/EN
VERSION:2.0
CALSCALE:GREGORIAN
BEGIN:VEVENT
UID:cff06a2fdd92ada456c8931222ac741d
DTSTAMP:20260421T190916Z
SUMMARY:Stunde der Blütenbesucher
DESCRIPTION:Blütenbesucher wie Wildbienen oder Schmetterlinge bestäuben e
 inen\nGrossteil unserer Kultur- und Wildpflanzen und sind ein wichtiger\nB
 estandteil unserer Ökosysteme.\n
DTSTART;VALUE=DATE:20230518
DTEND;VALUE=DATE:20230529
END:VEVENT
END:VCALENDAR
