BEGIN:VCALENDAR
PRODID:-//eluceo/ical//2.0/EN
VERSION:2.0
CALSCALE:GREGORIAN
BEGIN:VEVENT
UID:4a7967322d5e89338e05e1bdb8a10f16
DTSTAMP:20260421T190819Z
SUMMARY:Stunde der Gartenvögel
DESCRIPTION:Wie viele Vogelarten besuchen Ihren Garten? Und welche Vögel s
 ind im\nnahen Park zu entdecken? Finden Sie es heraus und begeben Sie sich
  auf\neine Minisafari.\n
DTSTART;VALUE=DATE:20230510
DTEND;VALUE=DATE:20230515
END:VEVENT
END:VCALENDAR
