BEGIN:VCALENDAR
PRODID:-//eluceo/ical//2.0/EN
VERSION:2.0
CALSCALE:GREGORIAN
BEGIN:VEVENT
UID:6d681036bd1cce1acda29e8efb2147c7
DTSTAMP:20260421T190658Z
SUMMARY:Auf den Spuren von Adebar
DESCRIPTION:Als Adebar\, Träger des Glücks\, wird der Weissstorch in Fabe
 ln\,\nMärchen und Sagen bezeichnet. Auf Bildern sieht man ihn oft mit ein
 em\nBaby in einem Tuch in seinem Schnabel.\n
DTSTART:20230507T074500Z
DTEND:20230507T100000Z
END:VEVENT
END:VCALENDAR
