BEGIN:VCALENDAR
PRODID:-//eluceo/ical//2.0/EN
VERSION:2.0
CALSCALE:GREGORIAN
BEGIN:VEVENT
UID:a742283be139216c8d794c6ca8430336
DTSTAMP:20260421T192013Z
SUMMARY:Dem Frühling auf der Spur
DESCRIPTION:Das Naturlehrgebiet ist aus einer Kiesgrube entstanden. Für vi
 ele\nseltene Tiere und Pflanzen des Mittellandes sind Kiesgruben zu\nwicht
 igen Ersatzlebensräumen für die verschwundenen Auenlandschaften\ngeworde
 n.\n
DTSTART:20230506T113000Z
DTEND:20230506T140000Z
END:VEVENT
END:VCALENDAR
