BEGIN:VCALENDAR
PRODID:-//eluceo/ical//2.0/EN
VERSION:2.0
CALSCALE:GREGORIAN
BEGIN:VEVENT
UID:7f55fd2de0448a96cbb544424d9b6fc9
DTSTAMP:20260421T192039Z
SUMMARY:Natur am Berg: Hecken und Wiesen aufwerten
DESCRIPTION:Der Bergbauer Mischa Hofer verbindet landwirtschaftliche Produk
 tion\nmit ökologischer Landschaftspflege.\n
DTSTART:20230506T070000Z
DTEND:20230506T140000Z
END:VEVENT
END:VCALENDAR
