BEGIN:VCALENDAR
PRODID:-//eluceo/ical//2.0/EN
VERSION:2.0
CALSCALE:GREGORIAN
BEGIN:VEVENT
UID:80c4f61cf76c92eac45eb421cb0de8e2
DTSTAMP:20260421T191758Z
SUMMARY:Vogelexkursion rund um die Kleine Emme
DESCRIPTION:Auf dieser morgendlichen Rundwanderung zwischen der\ndenkmalges
 chützten Dorfbrücke Werthenstein und der Langnauerbrücke\nkönnen wir n
 eben ganzjährig bei uns heimischen Vogelarten auch\nbereits erste zurück
 kehrende Zugvögel antreffen.\n
DTSTART:20230423T050000Z
DTEND:20230423T090000Z
END:VEVENT
END:VCALENDAR
