BEGIN:VCALENDAR
PRODID:-//eluceo/ical//2.0/EN
VERSION:2.0
CALSCALE:GREGORIAN
BEGIN:VEVENT
UID:2155bae49152d128cb931a5abd33d501
DTSTAMP:20260421T173723Z
SUMMARY:Kiebitzbalz in der Wauwiler Ebene
DESCRIPTION:Rund ein Viertel des Schweizer Kiebitzbestands brütet in der W
 auwiler\nEbene. Dort führt die Vogelwarte seit 2005 ein wissenschaftlich\
 nbegleitetes Projekt zur Förderung des Kiebitzes durch.\n
DTSTART:20230408T050000Z
DTEND:20230408T100000Z
END:VEVENT
END:VCALENDAR
