BEGIN:VCALENDAR
PRODID:-//eluceo/ical//2.0/EN
VERSION:2.0
CALSCALE:GREGORIAN
BEGIN:VEVENT
UID:358dc4bc6f559335ac3580e39b982a7e
DTSTAMP:20260421T173731Z
SUMMARY:6. «Bördleif» Vogelrally
DESCRIPTION:Schon zum sechsten Mal findet das Bird Race von BirdLife Luzern
  in der\nZentralschweiz statt. Wie viele Vogelarten können Sie in zwölf\
 nStunden entdecken?\n
DTSTART:20230401T030000Z
DTEND:20230401T150000Z
END:VEVENT
END:VCALENDAR
