BEGIN:VCALENDAR
PRODID:-//eluceo/ical//2.0/EN
VERSION:2.0
CALSCALE:GREGORIAN
BEGIN:VEVENT
UID:d77297a600e0dc28272a3aa2280bdd43
DTSTAMP:20260421T173730Z
SUMMARY:Lebensweise\, Gefährdung und erfolgreicher Schutz von Amphibien
DESCRIPTION:Amphibien sind populär. Fast jeder Naturschutzverein hat schon
  ein\n«Biotop» gebaut und jeden Frühling helfen viele freiwillige\nHelf
 erinnen und Helferinnen mit\, die Amphibien vor dem Tod auf der\nStrasse z
 u schützen.\n
DTSTART:20230323T190000Z
DTEND:20230323T203000Z
END:VEVENT
END:VCALENDAR
