BEGIN:VCALENDAR
PRODID:-//eluceo/ical//2.0/EN
VERSION:2.0
CALSCALE:GREGORIAN
BEGIN:VEVENT
UID:c8dbb19b7b5191f27334d81c7013489e
DTSTAMP:20260421T192014Z
SUMMARY:Vielfalt am Wichelsee (BirdLife Jungvögu)
DESCRIPTION:Der Wichelsee und der angrenzende Auenwald sind ein Überwinter
 ungs-\,\nRast- und Brutplatz für eine Vielzahl unterschiedlicher Vogelart
 en\nwie Krick-\, Löffel-\, Reiher- und Tafelente\, Zwergtaucher sowie Gra
 u-\nund Silberreiher.\n
DTSTART:20230318T080000Z
DTEND:20230318T133000Z
END:VEVENT
END:VCALENDAR
