BEGIN:VCALENDAR
PRODID:-//eluceo/ical//2.0/EN
VERSION:2.0
CALSCALE:GREGORIAN
BEGIN:VEVENT
UID:a115543753b061381c09212e6842a401
DTSTAMP:20260421T193332Z
SUMMARY:Verlust der Dunkelheit: Zugvögel in erhellter Nacht
DESCRIPTION:Vögel sind weitgehend tagaktiv\, doch ihre faszinierenden\nZug
 bewegungen finden meistens im Schutze der Nacht statt.\n
DTSTART:20230223T190000Z
DTEND:20230223T203000Z
END:VEVENT
END:VCALENDAR
