BEGIN:VCALENDAR
PRODID:-//eluceo/ical//2.0/EN
VERSION:2.0
CALSCALE:GREGORIAN
BEGIN:VEVENT
UID:9ded8a966cb70eb2c5bc1e13ad53ced0
DTSTAMP:20260421T192038Z
SUMMARY:Praxisaustausch für die Mauersegler-Förderung
DESCRIPTION:Der Verlust von Brutplätzen und ihre Zerstörung bei Renovatio
 nen\noder Abbruch sind die wichtigsten Gefährdungsfaktoren des\nMauersegl
 ers.\n
DTSTART:20230311T120000Z
DTEND:20230311T180000Z
END:VEVENT
END:VCALENDAR
