BEGIN:VCALENDAR
PRODID:-//eluceo/ical//2.0/EN
VERSION:2.0
CALSCALE:GREGORIAN
BEGIN:VEVENT
UID:827f757c8d8c1c1e0d82ad4df6888196
DTSTAMP:20260421T191626Z
SUMMARY:Förderung von Turmfalke und Schleiereule
DESCRIPTION:Turmfalke und Schleiereule werden mittels Nistkästen geförder
 t und\nihr Bruterfolg wird überwacht. Das ist wichtig für den Erhalt der
 \nArtenvielfalt im Kulturland.\n
DTSTART:20230211T080000Z
DTEND:20230211T153000Z
END:VEVENT
END:VCALENDAR
