BEGIN:VCALENDAR
PRODID:-//eluceo/ical//2.0/EN
VERSION:2.0
CALSCALE:GREGORIAN
BEGIN:VEVENT
UID:aa74323464f6ed10ea7e581c0011809d
DTSTAMP:20260421T224211Z
SUMMARY:Repair Cafés Luzern - Bourbaki Bar
DESCRIPTION:Reparieren schont Budget und Umwelt – gemeinsam und unentgelt
 lich\n
DTSTART:20231021T080000Z
DTEND:20231021T140000Z
LOCATION:Löwenplatz 11\, 6004 Luzern
GEO:47.056905;8.311345
X-APPLE-STRUCTURED-LOCATION;VALUE=URI;X-ADDRESS=Löwenplatz 11\, 6004 Luzer
 n;X-APPLE-RADIUS=49;X-TITLE=:geo:47.056905,8.311345
END:VEVENT
END:VCALENDAR
