BEGIN:VCALENDAR
PRODID:-//eluceo/ical//2.0/EN
VERSION:2.0
CALSCALE:GREGORIAN
BEGIN:VEVENT
UID:07af4d465e9a74ba0b93efbda4df70e3
DTSTAMP:20260421T191855Z
SUMMARY:Repair Cafés Luzern - Bourbaki Bar
DESCRIPTION:Reparieren schont Budget und Umwelt – gemeinsam und unentgelt
 lich\n
DTSTART:20230128T090000Z
DTEND:20230128T130000Z
LOCATION:Löwenplatz 11\, 6004 Luzern
GEO:47.056905;8.311345
X-APPLE-STRUCTURED-LOCATION;VALUE=URI;X-ADDRESS=Löwenplatz 11\, 6004 Luzer
 n;X-APPLE-RADIUS=49;X-TITLE=:geo:47.056905,8.311345
END:VEVENT
END:VCALENDAR
