BEGIN:VCALENDAR
PRODID:-//eluceo/ical//2.0/EN
VERSION:2.0
CALSCALE:GREGORIAN
BEGIN:VEVENT
UID:44e6e69cbc77645dc73ac2151433a69a
DTSTAMP:20260421T190849Z
SUMMARY:Repair Cafés Luzern - Neubad
DESCRIPTION:Reparieren schont Budget und Umwelt – gemeinsam und unentgelt
 lich\n
DTSTART:20230304T090000Z
DTEND:20230304T130000Z
LOCATION:Bireggstrasse 36\, 6003 Luzern
GEO:47.041412;8.307136
X-APPLE-STRUCTURED-LOCATION;VALUE=URI;X-ADDRESS=Bireggstrasse 36\, 6003 Luz
 ern;X-APPLE-RADIUS=49;X-TITLE=:geo:47.041412,8.307136
END:VEVENT
END:VCALENDAR
