BEGIN:VCALENDAR
PRODID:-//eluceo/ical//2.0/EN
VERSION:2.0
CALSCALE:GREGORIAN
BEGIN:VEVENT
UID:923564695823689bfd3ba56f877fdf25
DTSTAMP:20260425T010507Z
SUMMARY:Der Sumpfrohrsänger – Meistersänger der Nacht
DESCRIPTION:Der Sumpfrohrsänger verbringt nur rund drei Monate im Brutgebi
 et\,\nbevor er wieder nach Afrika aufbricht. Er imitiert beim Gesang\nmeis
 terhaft andere Vogelstimmen. Tauchen Sie ein in das Referat über\nden Vog
 el des Jahres 2023.\n
DTSTART:20230126T190000Z
DTEND:20230126T203000Z
END:VEVENT
END:VCALENDAR
