BEGIN:VCALENDAR
PRODID:-//eluceo/ical//2.0/EN
VERSION:2.0
CALSCALE:GREGORIAN
BEGIN:VEVENT
UID:d72da9e345b555d45810107d2464e594
DTSTAMP:20260421T191215Z
SUMMARY:Stunde der Wintervögel
DESCRIPTION:Welche Vögel leben in Ihrem Garten und picken nach Sämereien\
 ,\nWürmern oder Beeren? Wer zählt zu den häufigsten Gästen an Ihrem\nF
 utterhaus? Machen Sie mit bei der Zählung!\n
DTSTART;VALUE=DATE:20230105
DTEND;VALUE=DATE:20230109
END:VEVENT
END:VCALENDAR
