BEGIN:VCALENDAR
PRODID:-//eluceo/ical//2.0/EN
VERSION:2.0
CALSCALE:GREGORIAN
BEGIN:VEVENT
UID:fbf1e4461db613f0ec00ffe2e8c7b7ca
DTSTAMP:20260421T191316Z
SUMMARY:Wintergäste im Alpnacherried (Städerried)
DESCRIPTION:5000 Kilometer und mehr fliegen Reiherenten\, Tafelenten und Co
 .\, um\nauf unseren Seen zu überwintern. Auf dieser Exkursion beobachten 
 wir\ndie Palette der Wintergäste.\n
DTSTART:20230121T080000Z
DTEND:20230121T110000Z
END:VEVENT
END:VCALENDAR
