BEGIN:VCALENDAR
PRODID:-//eluceo/ical//2.0/EN
VERSION:2.0
CALSCALE:GREGORIAN
BEGIN:VEVENT
UID:aa283dab59590a6375698250b8753426
DTSTAMP:20260421T223448Z
SUMMARY:Emmensprung: Von der Quelle bis zum Fluss
DESCRIPTION:Wandern Sie mit uns zur imposanten Quelle der Kleinen Emme und 
 von\ndort entlang von Bächen und Feuchtgebieten bis zum Fluss.\n
DTSTART:20231021T071000Z
DTEND:20231021T133000Z
END:VEVENT
END:VCALENDAR
