BEGIN:VCALENDAR
PRODID:-//eluceo/ical//2.0/EN
VERSION:2.0
CALSCALE:GREGORIAN
BEGIN:VEVENT
UID:a0a5ba1de32e60d25782d77dc2b4f22b
DTSTAMP:20260421T224640Z
SUMMARY:Wo sich Fuchs und Hase gute Nacht sagen
DESCRIPTION:Im Pro Natura Schutzgebiet Ronfeld am südlichen Ende des\nBald
 eggersees fühlen sich nach der Renaturierung nicht nur Vögel und\nInsekt
 en wohl\, sondern auch kleine und grosse Säugetiere.\n
DTSTART:20230916T160000Z
DTEND:20230916T183000Z
END:VEVENT
END:VCALENDAR
