BEGIN:VCALENDAR
PRODID:-//eluceo/ical//2.0/EN
VERSION:2.0
CALSCALE:GREGORIAN
BEGIN:VEVENT
UID:99f298f7ff921a2c7979675ce6c9f70c
DTSTAMP:20260421T223816Z
SUMMARY:Unterwegs mit dem Baldeggersee-Ranger
DESCRIPTION:Erleben Sie an Ort und Stelle den Alltag eines Rangers und entd
 ecken\nSie dabei das Schutzgebiet Baldeggersee aus einer etwas anderen\nPe
 rspektive.\n
DTSTART:20230909T070000Z
DTEND:20230909T090000Z
END:VEVENT
END:VCALENDAR
