BEGIN:VCALENDAR
PRODID:-//eluceo/ical//2.0/EN
VERSION:2.0
CALSCALE:GREGORIAN
BEGIN:VEVENT
UID:f0d03018c3b2569e0314d15a011813dd
DTSTAMP:20260421T210718Z
SUMMARY:Wanderung zum Bergföhrenhochmoor «Haglere»
DESCRIPTION:Ziel dieser ganztägigen Wanderung ist das Pro Natura Schutzgeb
 iet\n"Haglere"\, ein urtümliches Bergföhren-Hochmoor und Lebensraum von\
 nRosmarinheide\, Moorenzian und Birkhuhn.\n
DTSTART:20230826T071500Z
DTEND:20230826T140000Z
END:VEVENT
END:VCALENDAR
