BEGIN:VCALENDAR
PRODID:-//eluceo/ical//2.0/EN
VERSION:2.0
CALSCALE:GREGORIAN
BEGIN:VEVENT
UID:fa31a80f2f6b45be3fbd6a588c169995
DTSTAMP:20260421T205345Z
SUMMARY:Pflegeeinsatz im Unter Schiltwald
DESCRIPTION:Im Unter Schiltwald in Emmen pflegen wir eine Fläche mit neu\n
 erstellten Unkentümpeln und Weihern\, wo sich auch einige Neophyten\nausb
 reiten. Wir zählen auf deine Mithilfe!\n
DTSTART:20230701T070000Z
DTEND:20230701T100000Z
END:VEVENT
END:VCALENDAR
