BEGIN:VCALENDAR
PRODID:-//eluceo/ical//2.0/EN
VERSION:2.0
CALSCALE:GREGORIAN
BEGIN:VEVENT
UID:7d0e10225b673798e29e8305c302f3fe
DTSTAMP:20260424T185728Z
SUMMARY:Tag der Artenvielfalt
DTSTART:20230603T060000Z
DTEND:20230604T160000Z
END:VEVENT
END:VCALENDAR
