BEGIN:VCALENDAR
PRODID:-//eluceo/ical//2.0/EN
VERSION:2.0
CALSCALE:GREGORIAN
BEGIN:VEVENT
UID:4c4cf231f188ffd5f49bf4588a391837
DTSTAMP:20260421T190545Z
SUMMARY:Hike & Sketch am Baldeggersee
DESCRIPTION:Mit «Nature Sketcher» Ueli Bieri wandern wir entlang des\nBal
 deggersees von Hochdorf nach Gelfingen. Unterwegs zeigt er uns\, wie\nwir 
 die umgebende Natur mit Stift und Pinsel darstellen können.\n
DTSTART:20230507T090000Z
DTEND:20230507T140000Z
END:VEVENT
END:VCALENDAR
