BEGIN:VCALENDAR
PRODID:-//eluceo/ical//2.0/EN
VERSION:2.0
CALSCALE:GREGORIAN
BEGIN:VEVENT
UID:7513655b90a49d33113a91794f935556
DTSTAMP:20260421T193424Z
SUMMARY:Fotografieren in der Natur
DESCRIPTION:Das Fotografieren in der Natur wird immer beliebter\, aber gera
 de die\nTier- und Landschaftsfotografie kann sehr anspruchsvoll sein. Dies
 er\nKurs soll Begeisterten dabei helfen\, einen Einstieg in diese Bereiche
 \nder Fotografie zu finden.\n
DTSTART:20230429T070000Z
DTEND:20230429T140000Z
LOCATION:Naturlehrgebiet Buchwald\, 6218 Ettiswil
GEO:47.143880;8.030115
X-APPLE-STRUCTURED-LOCATION;VALUE=URI;X-ADDRESS=Naturlehrgebiet Buchwald\, 
 6218 Ettiswil;X-APPLE-RADIUS=49;X-TITLE=:geo:47.143880,8.030115
END:VEVENT
END:VCALENDAR
