BEGIN:VCALENDAR
PRODID:-//eluceo/ical//2.0/EN
VERSION:2.0
CALSCALE:GREGORIAN
BEGIN:VEVENT
UID:f34dbb2fcdd30a15312a0535ae6f3cd2
DTSTAMP:20260421T173649Z
SUMMARY:Biber an der Ron
DESCRIPTION:Warum fällen Biber eigentlich Bäume?\n
DTSTART:20230325T130000Z
DTEND:20230325T150000Z
LOCATION:Rotseeweg 20\, 6030 Ebikon
GEO:47.077993;8.331277
X-APPLE-STRUCTURED-LOCATION;VALUE=URI;X-ADDRESS=Rotseeweg 20\, 6030 Ebikon;
 X-APPLE-RADIUS=49;X-TITLE=:geo:47.077993,8.331277
END:VEVENT
END:VCALENDAR
