BEGIN:VCALENDAR
PRODID:-//eluceo/ical//2.0/EN
VERSION:2.0
CALSCALE:GREGORIAN
BEGIN:VEVENT
UID:4117a90bac4c593589d46d07bb736a64
DTSTAMP:20260421T205930Z
SUMMARY:Führung durch das neue "House of Energy" 
DESCRIPTION:Blicken Sie in die Energiezukunft in der Ausstellung "Experienc
 e\nEnergy" im Verkehrshaus. Der Anlass ist auch für Familien geeignet.\n
DTSTART:20230606T143000Z
DTEND:20230606T160000Z
LOCATION:Lidostrasse 5\, 6006 Luzern
GEO:47.052873;8.336386
X-APPLE-STRUCTURED-LOCATION;VALUE=URI;X-ADDRESS=Lidostrasse 5\, 6006 Luzern
 ;X-APPLE-RADIUS=49;X-TITLE=:geo:47.052873,8.336386
END:VEVENT
END:VCALENDAR
