BEGIN:VCALENDAR
PRODID:-//eluceo/ical//2.0/EN
VERSION:2.0
CALSCALE:GREGORIAN
BEGIN:VEVENT
UID:14aa9a9afcd9d5559243e90a3e29e526
DTSTAMP:20260421T205457Z
SUMMARY:Waldameisen-Pirsch 
DESCRIPTION:Kommen Sie mit auf einen Spaziergang im Bireggwald und lassen S
 ie sich\nvon den Waldameisen überraschen.\n
DTSTART:20230603T120000Z
DTEND:20230603T140000Z
LOCATION:Zihlmattweg Bushaltestelle\, 6005 Luzern
GEO:47.031711;8.304127
X-APPLE-STRUCTURED-LOCATION;VALUE=URI;X-ADDRESS=Zihlmattweg Bushaltestelle\
 , 6005 Luzern;X-APPLE-RADIUS=49;X-TITLE=:geo:47.031711,8.304127
END:VEVENT
END:VCALENDAR
