BEGIN:VCALENDAR
PRODID:-//eluceo/ical//2.0/EN
VERSION:2.0
CALSCALE:GREGORIAN
BEGIN:VEVENT
UID:1544411a1943a349192d617c0b7e46f1
DTSTAMP:20260425T041138Z
SUMMARY:Wildbienen im Steinhofpark
DESCRIPTION:Der Steinhof wurde für Wildbienen aufgewertet - wir schauen na
 ch ob\ndie Nistplätze schon besetzt sind. Und wir erfahren\, dass\nWildbi
 enenschutz auch im eigenen Garten funktioniert.\n
DTSTART:20230525T160000Z
DTEND:20230525T173000Z
LOCATION:Bushaltestelle Steinhof (vbl 11)\, 6005 Luzern
GEO:47.041941;8.299388
X-APPLE-STRUCTURED-LOCATION;VALUE=URI;X-ADDRESS=Bushaltestelle Steinhof (vb
 l 11)\, 6005 Luzern;X-APPLE-RADIUS=49;X-TITLE=:geo:47.041941,8.299388
END:VEVENT
END:VCALENDAR
