BEGIN:VCALENDAR
PRODID:-//eluceo/ical//2.0/EN
VERSION:2.0
CALSCALE:GREGORIAN
BEGIN:VEVENT
UID:396aa0d577f978e6f7fe379fd29ba52a
DTSTAMP:20260421T191736Z
SUMMARY:Bei den Bienen auf dem Dach der Messe Allmend 
DESCRIPTION:Auf dem Dach der Messe Allmend geht ein Imker seinem Handwerk n
 ach.\nAuch Wildbienen und eine Solaranlage gibt es zu bestaunen.\n
DTSTART:20230515T160000Z
DTEND:20230515T173000Z
LOCATION:Horwerstrasse 87\, 6005 Luzern
GEO:47.034716;8.304210
X-APPLE-STRUCTURED-LOCATION;VALUE=URI;X-ADDRESS=Horwerstrasse 87\, 6005 Luz
 ern;X-APPLE-RADIUS=49;X-TITLE=:geo:47.034716,8.304210
END:VEVENT
END:VCALENDAR
