BEGIN:VCALENDAR
PRODID:-//eluceo/ical//2.0/EN
VERSION:2.0
CALSCALE:GREGORIAN
BEGIN:VEVENT
UID:d6519eb85941f93b1c2100fa05e27515
DTSTAMP:20260421T191915Z
SUMMARY:Abendspaziergang: Amphibienwanderung
DESCRIPTION:Wir besuchen wandernde Amphibien auf ihrem waghalsigen Marsch z
 um\nGewässer. Ein Abendspaziergang für Erwachsene und Familien.\n
DTSTART:20230303T180000Z
DTEND:20230303T200000Z
LOCATION:Kasernenplatz 6\, 6003 Luzern
GEO:47.051708;8.300917
X-APPLE-STRUCTURED-LOCATION;VALUE=URI;X-ADDRESS=Kasernenplatz 6\, 6003 Luze
 rn;X-APPLE-RADIUS=49;X-TITLE=:geo:47.051708,8.300917
END:VEVENT
END:VCALENDAR
