BEGIN:VCALENDAR
PRODID:-//eluceo/ical//2.0/EN
VERSION:2.0
CALSCALE:GREGORIAN
BEGIN:VEVENT
UID:6db8fc5c255f984477a64651af91482e
DTSTAMP:20260421T192037Z
SUMMARY:Vegane Ernährung - Tipps und Tricks für den Alltag
DESCRIPTION:Erfahren Sie wie man sich langfristig gesund vegan ernähren k
 ann -\nund dass dies weder kompliziert\, noch teuer\, noch zeitintensiv se
 in\nmuss.\n
DTSTART:20230215T163000Z
DTEND:20230215T173000Z
LOCATION:St. Karliquai 7\, 6004 Luzern
GEO:47.052559;8.301382
X-APPLE-STRUCTURED-LOCATION;VALUE=URI;X-ADDRESS=St. Karliquai 7\, 6004 Luze
 rn;X-APPLE-RADIUS=49;X-TITLE=:geo:47.052559,8.301382
END:VEVENT
END:VCALENDAR
