BEGIN:VCALENDAR
PRODID:-//eluceo/ical//2.0/EN
VERSION:2.0
CALSCALE:GREGORIAN
BEGIN:VEVENT
UID:b8104d951518fe3dab4df88e76eadb2b
DTSTAMP:20260421T191202Z
SUMMARY:Saatgut-Tauschbörse
DESCRIPTION:An der Saatgut-Tauschbörse kann Saatgut von Kultur- und Wildpf
 lanzen\nmit anderen Interessierten getauscht werden. Kommen und Gehen nach
 \nLust und Laune.\n
DTSTART:20230211T123000Z
DTEND:20230211T160000Z
LOCATION:Löwenplatz 11\, 6004 Luzern
GEO:47.056908;8.311334
X-APPLE-STRUCTURED-LOCATION;VALUE=URI;X-ADDRESS=Löwenplatz 11\, 6004 Luzer
 n;X-APPLE-RADIUS=49;X-TITLE=:geo:47.056908,8.311334
END:VEVENT
END:VCALENDAR
