BEGIN:VCALENDAR
PRODID:-//eluceo/ical//2.0/EN
VERSION:2.0
CALSCALE:GREGORIAN
BEGIN:VEVENT
UID:9c418f71a6958ff1e3d4a720a85d9f60
DTSTAMP:20260421T173722Z
SUMMARY:Terra preta: Pflanzenkohle\, selbst gemacht 1
DESCRIPTION:Herstellung eigener Pflanzenkohle\, Alchemie zum Erleben!\n
DTSTART:20230325T080000Z
DTEND:20230325T150000Z
LOCATION:Emmenweidstr. 8a\, 6020 Emmenbrücke
END:VEVENT
END:VCALENDAR
