BEGIN:VCALENDAR
PRODID:-//eluceo/ical//2.0/EN
VERSION:2.0
CALSCALE:GREGORIAN
BEGIN:VEVENT
UID:be15fc56d60bcf033a27fe797e6e9a7f
DTSTAMP:20260421T190849Z
SUMMARY:Weiden Flechtkurs 1
DESCRIPTION:Aus ungeschälten Weiden flechten wir Rank-Hilfen für Schling-
  und\nKletterpflanzen.\n
DTSTART:20230310T123000Z
DTEND:20230310T160000Z
LOCATION:Burgrain 24\, 6248 Alberswil
END:VEVENT
END:VCALENDAR
