BEGIN:VCALENDAR
PRODID:-//eluceo/ical//2.0/EN
VERSION:2.0
CALSCALE:GREGORIAN
BEGIN:VEVENT
UID:27ff1b5e0979e5e25371b8cd945c2bd4
DTSTAMP:20260421T224939Z
SUMMARY:Botanik für Einsteiger*innen
DESCRIPTION:Was wächst denn da? Ist diese Pflanze nützlich? giftig? Wozu\
 nbrauchen wir sie?\n
DTSTART:20230916T080000Z
DTEND:20230916T150000Z
LOCATION:Burgrain 24\, 6248 Alberswil
END:VEVENT
END:VCALENDAR
