BEGIN:VCALENDAR
PRODID:-//eluceo/ical//2.0/EN
VERSION:2.0
CALSCALE:GREGORIAN
BEGIN:VEVENT
UID:3702ec2a86d4375b3dccff249831d2eb
DTSTAMP:20260421T223612Z
SUMMARY:Besuch im Selbsterntegarten\, Alpnach
DESCRIPTION:Sie lernen das Konzept "Selbsterntegarten" kennen: regional\, s
 aisonal\,\nbiologisch\, gemeinschaftlich.\n
DTSTART:20230826T113000Z
DTEND:20230826T140000Z
LOCATION:Chlewigenmatt 6\, 6055 Alpnach
END:VEVENT
END:VCALENDAR
