BEGIN:VCALENDAR
PRODID:-//eluceo/ical//2.0/EN
VERSION:2.0
CALSCALE:GREGORIAN
BEGIN:VEVENT
UID:77a5d84ca710c1dd4b961b55f1ced63f
DTSTAMP:20260421T205951Z
SUMMARY:Heilpflanzen aus dem Hausgarten
DESCRIPTION:Wir lernen einige Heilpflanzen kennen und bereiten daraus versc
 hiedene\nHausmittel zu.\n
DTSTART:20230826T070000Z
DTEND:20230826T140000Z
LOCATION:Burgrain 24\, 6248 Alberswil
END:VEVENT
END:VCALENDAR
