BEGIN:VCALENDAR
PRODID:-//eluceo/ical//2.0/EN
VERSION:2.0
CALSCALE:GREGORIAN
BEGIN:VEVENT
UID:a22b7b1496e6de65ac505e4c18954337
DTSTAMP:20260421T205239Z
SUMMARY:Saatgut gewinnen - Tipps und Tricks
DESCRIPTION:Es macht Spass\, Saatgut selbst zu gewinnen!\n
DTSTART:20230620T163000Z
DTEND:20230620T190000Z
LOCATION:Kloster Geuenseestr. 2a\, 6210 Sursee
END:VEVENT
END:VCALENDAR
