BEGIN:VCALENDAR
PRODID:-//eluceo/ical//2.0/EN
VERSION:2.0
CALSCALE:GREGORIAN
BEGIN:VEVENT
UID:dab00e4339cd5086c47073099048da4b
DTSTAMP:20260421T205956Z
SUMMARY:Insekten - eine Wunderwelt für alle
DESCRIPTION:Nützlinge? Schädlinge? Es sind alle faszinierende Lebewesen!\
 n
DTSTART:20230618T110000Z
DTEND:20230618T150000Z
LOCATION:Burgrain 24\, 6248 Alberswil
END:VEVENT
END:VCALENDAR
