BEGIN:VCALENDAR
PRODID:-//eluceo/ical//2.0/EN
VERSION:2.0
CALSCALE:GREGORIAN
BEGIN:VEVENT
UID:f0933b085957c3bae4171b87a5929c72
DTSTAMP:20260421T191620Z
SUMMARY:Sense - vom Mähen bis zum Dengeln
DESCRIPTION:Ein altes Handwerk in seiner schönsten Form: Mähen mit der Se
 nse.\n
DTSTART:20230520T070000Z
DTEND:20230520T133000Z
LOCATION:Burgrain 20\, 6248 Alberswil
END:VEVENT
END:VCALENDAR
