BEGIN:VCALENDAR
PRODID:-//eluceo/ical//2.0/EN
VERSION:2.0
CALSCALE:GREGORIAN
BEGIN:VEVENT
UID:f40a2d9b66ce48afeacb5754fe95b4ca
DTSTAMP:20260421T191417Z
SUMMARY:Balkon und Hochbeet - Mein Paradies
DESCRIPTION:Wie wird mein Balkon oder das Hochbeet zu einem Paradies für m
 ich und\nfür die Natur allgemein?\n
DTSTART:20230422T110000Z
DTEND:20230422T150000Z
LOCATION:Burgrain 20\, 6248 Alberswil
GEO:47.142817;7.998306
X-APPLE-STRUCTURED-LOCATION;VALUE=URI;X-ADDRESS=Burgrain 20\, 6248 Alberswi
 l;X-APPLE-RADIUS=49;X-TITLE=:geo:47.142817,7.998306
END:VEVENT
END:VCALENDAR
