BEGIN:VCALENDAR
PRODID:-//eluceo/ical//2.0/EN
VERSION:2.0
CALSCALE:GREGORIAN
BEGIN:VEVENT
UID:c907f4ffe1897f94a488ca8470b401b4
DTSTAMP:20260421T173722Z
SUMMARY:Gemeinsam durchs biologische Gartenjahr 2
DESCRIPTION:5-teiliger Kurs für Leute\, welche ihr Garten Wissen festigen\
 nmöchten.\n
DTSTART:20230403T144500Z
DTEND:20230412T171500Z
LOCATION:Münzgasse 4\, 6102  Malters
GEO:47.037552;8.182888
X-APPLE-STRUCTURED-LOCATION;VALUE=URI;X-ADDRESS=Münzgasse 4\, 6102  Malter
 s;X-APPLE-RADIUS=49;X-TITLE=:geo:47.037552,8.182888
END:VEVENT
END:VCALENDAR
